BEGIN:VCALENDAR
VERSION:2.0
PRODID:-//Intand Corporation//Tandem//EN
METHOD:PUBLISH
BEGIN:VEVENT
DTSTAMP:20260424T063812Z
DTSTART:20200211T221000Z
DTEND:20200211T231000Z
TRANSP:TRANSPARENT
PRIORITY:0
SUMMARY:LS - Young Rembrandts - Winter/Spring Session
LOCATION:LSE Upstairs Commons
DESCRIPTION:Groups:\nYoung Rembrandt's Art Enrichment\n\nSchools:\nLillian
  Schumacher Elementary\n\nLocation:\nLSE Upstairs Commons\n\n
URL;VALUE=URI:http://liberty53.tandem.co/index.php?type=view&action=event&
 id=366906
CREATED:20191017T192903Z
LAST-MODIFIED:20191017T192903Z
UID:event-366906-liberty53@intand.com
END:VEVENT
END:VCALENDAR
