BEGIN:VCALENDAR
VERSION:2.0
PRODID:-//Intand Corporation//Tandem//EN
METHOD:PUBLISH
BEGIN:VEVENT
DTSTAMP:20260424T033508Z
DTSTART:20191211T203000Z
DTEND:20191211T213000Z
TRANSP:TRANSPARENT
PRIORITY:0
SUMMARY:Eligibility Meeting
LOCATION:SVMS Conference Suite I
DESCRIPTION:Eligibility Meeting\n\nGroups:\nSPED Staff\n\nSchools:\nDistri
 ct Administration Center\nSouth Valley Middle School\n\nLocation:\nSVMS Co
 nference Suite I\n\n
URL;VALUE=URI:http://liberty53.tandem.co/index.php?type=view&action=event&
 id=366903
CREATED:20191017T191436Z
LAST-MODIFIED:20191018T133601Z
UID:event_request-366903-liberty53@intand.com
END:VEVENT
END:VCALENDAR
