BEGIN:VCALENDAR
VERSION:2.0
PRODID:-//Intand Corporation//Tandem//EN
METHOD:PUBLISH
BEGIN:VEVENT
DTSTAMP:20260424T063547Z
DTSTART:20200127T205000Z
DTEND:20200127T215000Z
TRANSP:TRANSPARENT
PRIORITY:0
SUMMARY: LO - Young Rembrandts - Winter/Spring Session
LOCATION:LOE Large Group Room
DESCRIPTION:Groups:\nYoung Rembrandt's Art Enrichment\n\nSchools:\nLiberty
  Oaks Elementary\n\nLocation:\nLOE Large Group Room\n\n
URL;VALUE=URI:http://liberty53.tandem.co/index.php?type=view&action=event&
 id=366865
CREATED:20191017T184029Z
LAST-MODIFIED:20191017T184029Z
UID:event-366865-liberty53@intand.com
END:VEVENT
END:VCALENDAR
