BEGIN:VCALENDAR
VERSION:2.0
PRODID:-//Intand Corporation//Tandem//EN
METHOD:PUBLISH
BEGIN:VEVENT
DTSTAMP:20260424T063840Z
DTSTART:20191231T143000Z
DTEND:20191231T181500Z
TRANSP:TRANSPARENT
PRIORITY:0
SUMMARY:DMS Basketball Practices
LOCATION:LMS Gym
DESCRIPTION:Groups:\nLMS Staff\nDMS Boys Basketball\nDMS Girls Basketball\
 n\nSchools:\nLiberty Middle School\nDiscovery Middle School\n\nLocation:\n
 LMS Gym\n\n
URL;VALUE=URI:http://liberty53.tandem.co/index.php?type=view&action=event&
 id=366854
CREATED:20191017T161924Z
LAST-MODIFIED:20191023T143306Z
UID:event_request-366854-liberty53@intand.com
END:VEVENT
END:VCALENDAR
