BEGIN:VCALENDAR
VERSION:2.0
PRODID:-//Intand Corporation//Tandem//EN
METHOD:PUBLISH
BEGIN:VEVENT
DTSTAMP:20260424T075935Z
DTSTART:20191118T130000Z
DTEND:20191118T135000Z
TRANSP:TRANSPARENT
PRIORITY:0
SUMMARY:SVMS-Spelling Bee-LGIR-Nadeau
LOCATION:SVMS LGIR
DESCRIPTION:Groups:\nSVMS Staff\n\nSchools:\nSouth Valley Middle School\n\
 nLocation:\nSVMS LGIR\n\n
URL;VALUE=URI:http://liberty53.tandem.co/index.php?type=view&action=event&
 id=366842
CREATED:20191017T133638Z
LAST-MODIFIED:20191017T133638Z
UID:event-366842-liberty53@intand.com
END:VEVENT
END:VCALENDAR
