BEGIN:VCALENDAR
VERSION:2.0
PRODID:-//Intand Corporation//Tandem//EN
METHOD:PUBLISH
BEGIN:VEVENT
DTSTAMP:20260424T053902Z
DTSTART:20200130T151000Z
DTEND:20200130T221000Z
TRANSP:TRANSPARENT
PRIORITY:0
SUMMARY:LS- Clay County Dental Flouride Treatments
LOCATION:LSE Room 210
DESCRIPTION:Groups:\nLSE Staff\n\nSchools:\nLillian Schumacher Elementary\
 n\nLocation:\nLSE Room 210\n\n
URL;VALUE=URI:http://liberty53.tandem.co/index.php?type=view&action=event&
 id=366791
CREATED:20191016T185602Z
LAST-MODIFIED:20191016T185602Z
UID:event-366791-liberty53@intand.com
END:VEVENT
END:VCALENDAR
