BEGIN:VCALENDAR
VERSION:2.0
PRODID:-//Intand Corporation//Tandem//EN
METHOD:PUBLISH
BEGIN:VEVENT
DTSTAMP:20260424T014902Z
DTSTART:20191106T133000Z
DTEND:20191106T213000Z
TRANSP:TRANSPARENT
PRIORITY:0
SUMMARY:LN Camp
LOCATION:LNHS Room 707
DESCRIPTION:Groups:\nLNHS Staff\n\nSchools:\nLiberty North High School\n\n
 Location:\nLNHS Room 707\n\n
URL;VALUE=URI:http://liberty53.tandem.co/index.php?type=view&action=event&
 id=366737
CREATED:20191015T202613Z
LAST-MODIFIED:20191015T202613Z
UID:event-366737-liberty53@intand.com
END:VEVENT
END:VCALENDAR
