BEGIN:VCALENDAR
VERSION:2.0
PRODID:-//Intand Corporation//Tandem//EN
METHOD:PUBLISH
BEGIN:VEVENT
DTSTAMP:20260424T063624Z
DTSTART:20191024T230000Z
DTEND:20191025T003000Z
TRANSP:TRANSPARENT
PRIORITY:0
SUMMARY:LO - Boy Scout Troop Informational Meeting
LOCATION:LOE Cafeteria
DESCRIPTION:Groups:\nBoy Scout of America\n\nSchools:\nLiberty Oaks Elemen
 tary\n\nLocation:\nLOE Cafeteria\n\n
URL;VALUE=URI:http://liberty53.tandem.co/index.php?type=view&action=event&
 id=366733
CREATED:20191015T191152Z
LAST-MODIFIED:20191015T191152Z
UID:event-366733-liberty53@intand.com
END:VEVENT
END:VCALENDAR
