BEGIN:VCALENDAR
VERSION:2.0
PRODID:-//Intand Corporation//Tandem//EN
METHOD:PUBLISH
BEGIN:VEVENT
DTSTAMP:20260424T031211Z
DTSTART:20191028T230000Z
DTEND:20191029T000000Z
TRANSP:TRANSPARENT
PRIORITY:0
SUMMARY:PEAK Parent Information Night
LOCATION:RE LMC
DESCRIPTION:Schools:\nFranklin Elementary\nLillian Schumacher Elementary\n
 Warren Hills Elementary\nLewis And Clark Elementary\nRidgeview Elementary\
 n\nLocation:\nRE LMC\n\n
URL;VALUE=URI:http://liberty53.tandem.co/index.php?type=view&action=event&
 id=366704
CREATED:20191015T143557Z
LAST-MODIFIED:20191015T143752Z
UID:event_request-366704-liberty53@intand.com
END:VEVENT
END:VCALENDAR
