BEGIN:VCALENDAR
VERSION:2.0
PRODID:-//Intand Corporation//Tandem//EN
METHOD:PUBLISH
BEGIN:VEVENT
DTSTAMP:20260424T033450Z
DTSTART:20191015T180000Z
DTEND:20191015T200000Z
TRANSP:TRANSPARENT
PRIORITY:0
SUMMARY:LN--PK service project
LOCATION:LNHS Room 707
DESCRIPTION:Groups:\nLNHS Staff\n\nSchools:\nLiberty North High School\n\n
 Location:\nLNHS Room 707\n\n
URL;VALUE=URI:http://liberty53.tandem.co/index.php?type=view&action=event&
 id=366633
CREATED:20191014T135419Z
LAST-MODIFIED:20191014T135419Z
UID:event-366633-liberty53@intand.com
END:VEVENT
END:VCALENDAR
