BEGIN:VCALENDAR
VERSION:2.0
PRODID:-//Intand Corporation//Tandem//EN
METHOD:PUBLISH
BEGIN:VEVENT
DTSTAMP:20260424T033536Z
DTSTART:20191029T203000Z
DTEND:20191029T233000Z
TRANSP:TRANSPARENT
PRIORITY:0
SUMMARY:LHS - Cheer State Practice
LOCATION:LHS Cokely Gym
DESCRIPTION:Groups:\nLHS Cheer Varsity\n\nSchools:\nLiberty High School\n\
 nLocation:\nLHS Cokely Gym\n\n
URL;VALUE=URI:http://liberty53.tandem.co/index.php?type=view&action=event&
 id=366498
CREATED:20191010T174016Z
LAST-MODIFIED:20191010T174016Z
UID:event-366498-liberty53@intand.com
END:VEVENT
END:VCALENDAR
