BEGIN:VCALENDAR
VERSION:2.0
PRODID:-//Intand Corporation//Tandem//EN
METHOD:PUBLISH
BEGIN:VEVENT
DTSTAMP:20260424T014453Z
DTSTART:20191125T213000Z
DTEND:20191125T233000Z
TRANSP:TRANSPARENT
PRIORITY:0
SUMMARY:[Cancelled] LN Women's Basketball JV/V Practice
LOCATION:LNHS Fieldhouse (GH HVAC)
DESCRIPTION:Groups:\nLNHS Basketball - Girls JV/Varsity\n\nSchools:\nLiber
 ty North High School\n\nLocation:\nLNHS Fieldhouse (GH HVAC)\n\n
URL;VALUE=URI:http://liberty53.tandem.co/index.php?type=view&action=event&
 id=366373
CREATED:20191010T000330Z
LAST-MODIFIED:20191014T193208Z
UID:event_request-366373-liberty53@intand.com
END:VEVENT
END:VCALENDAR
