BEGIN:VCALENDAR
VERSION:2.0
PRODID:-//Intand Corporation//Tandem//EN
METHOD:PUBLISH
BEGIN:VEVENT
DTSTAMP:20260424T031317Z
DTSTART:20191122T000000Z
DTEND:20191122T020000Z
TRANSP:TRANSPARENT
PRIORITY:0
SUMMARY:LN Women's Basketball Jamboree
LOCATION:LNHS Aux Gym - 407 (GH HVAC)
DESCRIPTION:Groups:\nLNHS WBB Varsity\n\nSchools:\nLiberty North High Scho
 ol\n\nLocation:\nLNHS Aux Gym - 407 (GH HVAC)\n\n
URL;VALUE=URI:http://liberty53.tandem.co/index.php?type=view&action=event&
 id=366369
CREATED:20191009T235739Z
LAST-MODIFIED:20191009T235924Z
UID:event_request-366369-liberty53@intand.com
END:VEVENT
END:VCALENDAR
