BEGIN:VCALENDAR
VERSION:2.0
PRODID:-//Intand Corporation//Tandem//EN
METHOD:PUBLISH
BEGIN:VEVENT
DTSTAMP:20260424T031214Z
DTSTART:20191114T000000Z
DTEND:20191114T023000Z
TRANSP:TRANSPARENT
PRIORITY:0
SUMMARY:LN Women's Basketball JV/V Practice
LOCATION:LNHS Fieldhouse (GH HVAC)
DESCRIPTION:Groups:\nLNHS Basketball - Girls JV/Varsity\n\nSchools:\nLiber
 ty North High School\n\nLocation:\nLNHS Fieldhouse (GH HVAC)\n\n
URL;VALUE=URI:http://liberty53.tandem.co/index.php?type=view&action=event&
 id=366357
CREATED:20191009T234320Z
LAST-MODIFIED:20191009T234334Z
UID:event_request-366357-liberty53@intand.com
END:VEVENT
END:VCALENDAR
