BEGIN:VCALENDAR
VERSION:2.0
PRODID:-//Intand Corporation//Tandem//EN
METHOD:PUBLISH
BEGIN:VEVENT
DTSTAMP:20260424T031212Z
DTSTART:20191203T120000Z
DTEND:20191203T133000Z
TRANSP:TRANSPARENT
PRIORITY:0
SUMMARY:Freshman Boys Basketball Practice
LOCATION:LHS Fieldhouse Gym
DESCRIPTION:Groups:\nLHS Boys Basketball Freshman\n\nSchools:\nLiberty Hig
 h School\n\nLocation:\nLHS Fieldhouse Gym\n\n
URL;VALUE=URI:http://liberty53.tandem.co/index.php?type=view&action=event&
 id=366271
CREATED:20191009T022835Z
LAST-MODIFIED:20191009T145707Z
UID:event_request-366271-liberty53@intand.com
END:VEVENT
END:VCALENDAR
