BEGIN:VCALENDAR
VERSION:2.0
PRODID:-//Intand Corporation//Tandem//EN
METHOD:PUBLISH
BEGIN:VEVENT
DTSTAMP:20260424T064404Z
DTSTART:20191016T220000Z
DTEND:20191017T010000Z
TRANSP:TRANSPARENT
PRIORITY:0
SUMMARY:BJN-Spaghetti Dinner 
LOCATION:LHS The Nest
DESCRIPTION:Groups:\nLHS SPED\n\nSchools:\nLiberty High School\n\nLocation
 :\nLHS The Nest\n\n
URL;VALUE=URI:http://liberty53.tandem.co/index.php?type=view&action=event&
 id=366201
CREATED:20191008T131055Z
LAST-MODIFIED:20191008T141639Z
UID:event_request-366201-liberty53@intand.com
END:VEVENT
END:VCALENDAR
