BEGIN:VCALENDAR
VERSION:2.0
PRODID:-//Intand Corporation//Tandem//EN
METHOD:PUBLISH
BEGIN:VEVENT
DTSTAMP:20260424T031235Z
DTSTART:20191028T211500Z
DTEND:20191028T221500Z
TRANSP:TRANSPARENT
PRIORITY:0
SUMMARY:LS- Garden Club
LOCATION:LSE Garden
DESCRIPTION:Groups:\nLSE PTA\nLSE Parent\nLSE Staff\n\nSchools:\nLillian S
 chumacher Elementary\n\nLocation:\nLSE Garden\n\n
URL;VALUE=URI:http://liberty53.tandem.co/index.php?type=view&action=event&
 id=366158
CREATED:20191007T160434Z
LAST-MODIFIED:20191007T160434Z
UID:event-366158-liberty53@intand.com
END:VEVENT
END:VCALENDAR
