BEGIN:VCALENDAR
VERSION:2.0
PRODID:-//Intand Corporation//Tandem//EN
METHOD:PUBLISH
BEGIN:VEVENT
DTSTAMP:20260424T075804Z
DTSTART:20191016T180000Z
DTEND:20191016T190000Z
TRANSP:TRANSPARENT
PRIORITY:0
SUMMARY:LHS - Gonino Parent Meeting
LOCATION:LHS Administrative Conference Room
DESCRIPTION:Groups:\nLHS IEP\n\nSchools:\nLiberty High School\n\nLocation:
 \nLHS Administrative Conference Room\n\n
URL;VALUE=URI:http://liberty53.tandem.co/index.php?type=view&action=event&
 id=366151
CREATED:20191007T153201Z
LAST-MODIFIED:20191008T141638Z
UID:event_request-366151-liberty53@intand.com
END:VEVENT
END:VCALENDAR
