BEGIN:VCALENDAR
VERSION:2.0
PRODID:-//Intand Corporation//Tandem//EN
METHOD:PUBLISH
BEGIN:VEVENT
DTSTAMP:20260424T014949Z
DTSTART:20200105T210000Z
DTEND:20200105T223000Z
TRANSP:TRANSPARENT
PRIORITY:0
SUMMARY: LC - KC Rising Basketball (J. Smith)
LOCATION:LCE Gym
DESCRIPTION:Groups:\nKC Rising\n\nSchools:\nLewis And Clark Elementary\n\n
 Location:\nLCE Gym\n\n
URL;VALUE=URI:http://liberty53.tandem.co/index.php?type=view&action=event&
 id=366099
CREATED:20191004T194507Z
LAST-MODIFIED:20191004T194507Z
UID:event-366099-liberty53@intand.com
END:VEVENT
END:VCALENDAR
