BEGIN:VCALENDAR
VERSION:2.0
PRODID:-//Intand Corporation//Tandem//EN
METHOD:PUBLISH
BEGIN:VEVENT
DTSTAMP:20260424T054251Z
DTSTART:20191008T160000Z
DTEND:20191008T170000Z
TRANSP:TRANSPARENT
PRIORITY:0
SUMMARY:LHS Herrman Parent Meeting
LOCATION:LHS Administrative Conference Room
DESCRIPTION:Schools:\nLiberty High School\n\nLocation:\nLHS Administrative
  Conference Room\n\n
URL;VALUE=URI:http://liberty53.tandem.co/index.php?type=view&action=event&
 id=366026
CREATED:20191004T123612Z
LAST-MODIFIED:20191007T150651Z
UID:event_request-366026-liberty53@intand.com
END:VEVENT
END:VCALENDAR
