BEGIN:VCALENDAR
VERSION:2.0
PRODID:-//Intand Corporation//Tandem//EN
METHOD:PUBLISH
BEGIN:VEVENT
DTSTAMP:20260424T063843Z
DTSTART:20191022T124000Z
DTEND:20191022T134000Z
TRANSP:TRANSPARENT
PRIORITY:0
SUMMARY:Parent Meeting - CC
LOCATION:LHS Guidance Conference Room
DESCRIPTION:Groups:\nLHS SPED\n\nSchools:\nLiberty High School\n\nLocation
 :\nLHS Guidance Conference Room\n\n
URL;VALUE=URI:http://liberty53.tandem.co/index.php?type=view&action=event&
 id=365949
CREATED:20191003T144415Z
LAST-MODIFIED:20191007T150651Z
UID:event_request-365949-liberty53@intand.com
END:VEVENT
END:VCALENDAR
