BEGIN:VCALENDAR
VERSION:2.0
PRODID:-//Intand Corporation//Tandem//EN
METHOD:PUBLISH
BEGIN:VEVENT
DTSTAMP:20260424T080001Z
DTSTART:20200118T140000Z
DTEND:20200118T210000Z
TRANSP:TRANSPARENT
PRIORITY:0
SUMMARY:LHS/LMS/DMS Winter Guard Rehearsals
LOCATION:DMS Cafeteria
DESCRIPTION:Groups:\nLHS Color Guard\n\nSchools:\nDiscovery Middle School\
 nLiberty High School\n\nLocation:\nDMS Cafeteria\n\n
URL;VALUE=URI:http://liberty53.tandem.co/index.php?type=view&action=event&
 id=365941
CREATED:20191003T141401Z
LAST-MODIFIED:20191003T141401Z
UID:event-365941-liberty53@intand.com
END:VEVENT
END:VCALENDAR
