BEGIN:VCALENDAR
VERSION:2.0
PRODID:-//Intand Corporation//Tandem//EN
METHOD:PUBLISH
BEGIN:VEVENT
DTSTAMP:20260424T074032Z
DTSTART:20191015T123000Z
DTEND:20191015T133000Z
TRANSP:TRANSPARENT
PRIORITY:0
SUMMARY:[Cancelled] Parent Meeting - CC
LOCATION:LHS Guidance Conference Room
DESCRIPTION:Parent meeting for CC\n\nGroups:\nLHS SPED\n\nSchools:\nLibert
 y High School\n\nLocation:\nLHS Guidance Conference Room\n\n
URL;VALUE=URI:http://liberty53.tandem.co/index.php?type=view&action=event&
 id=365806
CREATED:20191001T144627Z
LAST-MODIFIED:20191007T150651Z
UID:event_request-365806-liberty53@intand.com
END:VEVENT
END:VCALENDAR
