BEGIN:VCALENDAR
VERSION:2.0
PRODID:-//Intand Corporation//Tandem//EN
METHOD:PUBLISH
BEGIN:VEVENT
DTSTAMP:20260424T041626Z
DTSTART:20190930T190000Z
DTEND:20190930T200000Z
TRANSP:TRANSPARENT
PRIORITY:0
SUMMARY:LHS - Counselor PD Planning Meeting
LOCATION:LHS Guidance Conference Room
DESCRIPTION:Groups:\nLHS Counselors\n\nSchools:\nLiberty High School\n\nLo
 cation:\nLHS Guidance Conference Room\n\n
URL;VALUE=URI:http://liberty53.tandem.co/index.php?type=view&action=event&
 id=365777
CREATED:20190927T160449Z
LAST-MODIFIED:20190927T195842Z
UID:event_request-365777-liberty53@intand.com
END:VEVENT
END:VCALENDAR
