BEGIN:VCALENDAR
VERSION:2.0
PRODID:-//Intand Corporation//Tandem//EN
METHOD:PUBLISH
BEGIN:VEVENT
DTSTAMP:20260424T041048Z
DTSTART:20191001T170000Z
DTEND:20191001T203000Z
TRANSP:TRANSPARENT
PRIORITY:0
SUMMARY:Basketball Interview w/ Rob Miller
LOCATION:LHS Hall of Fame Room
DESCRIPTION:Groups:\nLHS Boys Basketball\n\nSchools:\nLiberty High School\
 n\nLocation:\nLHS Hall of Fame Room\n\n
URL;VALUE=URI:http://liberty53.tandem.co/index.php?type=view&action=event&
 id=365774
CREATED:20190926T230809Z
LAST-MODIFIED:20190927T195842Z
UID:event_request-365774-liberty53@intand.com
END:VEVENT
END:VCALENDAR
