BEGIN:VCALENDAR
VERSION:2.0
PRODID:-//Intand Corporation//Tandem//EN
METHOD:PUBLISH
BEGIN:VEVENT
DTSTAMP:20260424T024200Z
DTSTART:20191016T213000Z
DTEND:20191017T020000Z
TRANSP:TRANSPARENT
PRIORITY:0
SUMMARY:ACT Prep - McDorman
LOCATION:LHS Room 906\, LHS Room 905\, LHS Room 908\, LHS Room 907
DESCRIPTION:Groups:\nLHS Administrative Team\n\nSchools:\nLiberty High Sch
 ool\n\nLocations:\nLHS Room 906\nLHS Room 905\nLHS Room 908\nLHS Room 907\
 n\n
URL;VALUE=URI:http://liberty53.tandem.co/index.php?type=view&action=event&
 id=365696
CREATED:20190924T190106Z
LAST-MODIFIED:20190926T160231Z
UID:event_request-365696-liberty53@intand.com
END:VEVENT
END:VCALENDAR
