BEGIN:VCALENDAR
VERSION:2.0
PRODID:-//Intand Corporation//Tandem//EN
METHOD:PUBLISH
BEGIN:VEVENT
DTSTAMP:20260424T023624Z
DTSTART:20191009T231500Z
DTEND:20191010T003000Z
TRANSP:TRANSPARENT
PRIORITY:0
SUMMARY:[Cancelled] LC - Girl Scouts Daisy Troop ( Musselman)
LOCATION:LCE Cafeteria
DESCRIPTION:Groups:\nGirls Scouts of NE Kansas and NW Missouri\n\nSchools:
 \nLewis And Clark Elementary\n\nLocation:\nLCE Cafeteria\n\n
URL;VALUE=URI:http://liberty53.tandem.co/index.php?type=view&action=event&
 id=365581
CREATED:20190924T172706Z
LAST-MODIFIED:20191007T162701Z
UID:event-365581-liberty53@intand.com
END:VEVENT
END:VCALENDAR
