BEGIN:VCALENDAR
VERSION:2.0
PRODID:-//Intand Corporation//Tandem//EN
METHOD:PUBLISH
BEGIN:VEVENT
DTSTAMP:20260424T014815Z
DTSTART:20191001T233000Z
DTEND:20191002T003000Z
TRANSP:TRANSPARENT
PRIORITY:0
SUMMARY:Parent Meeting
LOCATION:LNHS LMC - 200
DESCRIPTION:Groups:\nLNHS Parent\n\nSchools:\nLiberty North High School\n\
 nLocation:\nLNHS LMC - 200\n\n
URL;VALUE=URI:http://liberty53.tandem.co/index.php?type=view&action=event&
 id=365432
CREATED:20190920T032801Z
LAST-MODIFIED:20190925T183627Z
UID:event_request-365432-liberty53@intand.com
END:VEVENT
END:VCALENDAR
