BEGIN:VCALENDAR
VERSION:2.0
PRODID:-//Intand Corporation//Tandem//EN
METHOD:PUBLISH
BEGIN:VEVENT
DTSTAMP:20260424T014930Z
DTSTART:20200205T003000Z
DTEND:20200205T013000Z
TRANSP:TRANSPARENT
PRIORITY:0
SUMMARY:Parent Sinfonia
LOCATION:DMS Room 201
DESCRIPTION:Setup: 6:00 pm\nBreakdown: 8:00 pm\n\nGroups:\nDMS Orchestra\n
 \nSchools:\nDiscovery Middle School\n\nLocation:\nDMS Room 201\n\n
URL;VALUE=URI:http://liberty53.tandem.co/index.php?type=view&action=event&
 id=365352
CREATED:20190918T190323Z
LAST-MODIFIED:20190918T195525Z
UID:event_request-365352-liberty53@intand.com
END:VEVENT
END:VCALENDAR
