BEGIN:VCALENDAR
VERSION:2.0
PRODID:-//Intand Corporation//Tandem//EN
METHOD:PUBLISH
BEGIN:VEVENT
DTSTAMP:20260424T033700Z
DTSTART:20190916T203000Z
DTEND:20190916T210500Z
TRANSP:TRANSPARENT
PRIORITY:0
SUMMARY:LHS - Dr. Adams mtg
LOCATION:LHS Guidance Conference Room
DESCRIPTION:Groups:\nLHS Administrative Team\n\nSchools:\nLiberty High Sch
 ool\n\nLocation:\nLHS Guidance Conference Room\n\n
URL;VALUE=URI:http://liberty53.tandem.co/index.php?type=view&action=event&
 id=365281
CREATED:20190916T122932Z
LAST-MODIFIED:20190916T155723Z
UID:event_request-365281-liberty53@intand.com
END:VEVENT
END:VCALENDAR
