BEGIN:VCALENDAR
VERSION:2.0
PRODID:-//Intand Corporation//Tandem//EN
METHOD:PUBLISH
BEGIN:VEVENT
DTSTAMP:20260424T033526Z
DTSTART:20191010T211500Z
DTEND:20191010T221500Z
TRANSP:TRANSPARENT
PRIORITY:0
SUMMARY:LS- Young Artists Club
LOCATION:LSE Makerspace
DESCRIPTION:Groups:\nLSE Parent\nLSE Staff\n\nSchools:\nLillian Schumacher
  Elementary\n\nLocation:\nLSE Makerspace\n\n
URL;VALUE=URI:http://liberty53.tandem.co/index.php?type=view&action=event&
 id=365237
CREATED:20190912T212150Z
LAST-MODIFIED:20190912T212150Z
UID:event-365237-liberty53@intand.com
END:VEVENT
END:VCALENDAR
