BEGIN:VCALENDAR
VERSION:2.0
PRODID:-//Intand Corporation//Tandem//EN
METHOD:PUBLISH
BEGIN:VEVENT
DTSTAMP:20260424T061631Z
DTSTART:20190918T193000Z
DTEND:20190919T000000Z
TRANSP:TRANSPARENT
PRIORITY:0
SUMMARY:HOME VB Game
LOCATION:LMS Gym Mezzanine
DESCRIPTION:Groups:\nLMS Volleyball\n\nSchools:\nLiberty Middle School\n\n
 Location:\nLMS Gym Mezzanine\n\n
URL;VALUE=URI:http://liberty53.tandem.co/index.php?type=view&action=event&
 id=365203
CREATED:20190912T192745Z
LAST-MODIFIED:20190924T121233Z
UID:event_request-365203-liberty53@intand.com
END:VEVENT
END:VCALENDAR
