BEGIN:VCALENDAR
VERSION:2.0
PRODID:-//Intand Corporation//Tandem//EN
METHOD:PUBLISH
BEGIN:VEVENT
DTSTAMP:20260424T055557Z
DTSTART:20200107T140000Z
DTEND:20200107T145500Z
TRANSP:TRANSPARENT
PRIORITY:0
SUMMARY:[Cancelled] WHE - Treble Makers Practice - Music Room - 8:00 - 8:5
 5am
LOCATION:WHE Music Room
DESCRIPTION:WHE - Treble Makers Practice - Music Room - 8:00 - 8:55 am\n\n
 Groups:\nWHE Staff\nWHE Parent\n\nSchools:\nWarren Hills Elementary\n\nLoc
 ation:\nWHE Music Room\n\n
URL;VALUE=URI:http://liberty53.tandem.co/index.php?type=view&action=event&
 id=364688
CREATED:20190909T204751Z
LAST-MODIFIED:20200106T145226Z
UID:event-364688-liberty53@intand.com
END:VEVENT
END:VCALENDAR
