BEGIN:VCALENDAR
VERSION:2.0
PRODID:-//Intand Corporation//Tandem//EN
METHOD:PUBLISH
BEGIN:VEVENT
DTSTAMP:20260424T014911Z
DTSTART:20191210T003000Z
DTEND:20191210T013000Z
TRANSP:TRANSPARENT
PRIORITY:0
SUMMARY:Model UN Meeting
LOCATION:LNHS Room 810
DESCRIPTION:Groups:\nLNHS Model UN\n\nSchools:\nLiberty North High School\
 n\nLocation:\nLNHS Room 810\n\n
URL;VALUE=URI:http://liberty53.tandem.co/index.php?type=view&action=event&
 id=364542
CREATED:20190909T024839Z
LAST-MODIFIED:20191009T130812Z
UID:event_request-364542-liberty53@intand.com
END:VEVENT
END:VCALENDAR
