BEGIN:VCALENDAR
VERSION:2.0
PRODID:-//Intand Corporation//Tandem//EN
METHOD:PUBLISH
BEGIN:VEVENT
DTSTAMP:20260424T033415Z
DTSTART:20191222T130000Z
DTEND:20191223T020000Z
TRANSP:TRANSPARENT
PRIORITY:0
SUMMARY:LHS - Youth Basketball Fundraising Tournament
LOCATION:LHS Cokely Gym\, LHS Fieldhouse Gym
DESCRIPTION:Groups:\nLHS Boys Basketball\n\nSchools:\nLiberty High School\
 n\nLocations:\nLHS Cokely Gym\nLHS Fieldhouse Gym\n\n
URL;VALUE=URI:http://liberty53.tandem.co/index.php?type=view&action=event&
 id=363225
CREATED:20190904T192750Z
LAST-MODIFIED:20190904T192750Z
UID:event-363225-liberty53@intand.com
END:VEVENT
END:VCALENDAR
