BEGIN:VCALENDAR
VERSION:2.0
PRODID:-//Intand Corporation//Tandem//EN
METHOD:PUBLISH
BEGIN:VEVENT
DTSTAMP:20260424T033506Z
DTSTART:20190912T124000Z
DTEND:20190912T134000Z
TRANSP:TRANSPARENT
PRIORITY:0
SUMMARY:LHS - Elliott - Parent Meeting
LOCATION:LHS Guidance Conference Room
DESCRIPTION:Groups:\nLHS SPED\n\nSchools:\nLiberty High School\n\nLocation
 :\nLHS Guidance Conference Room\n\n
URL;VALUE=URI:http://liberty53.tandem.co/index.php?type=view&action=event&
 id=361052
CREATED:20190903T200307Z
LAST-MODIFIED:20190904T191706Z
UID:event_request-361052-liberty53@intand.com
END:VEVENT
END:VCALENDAR
