BEGIN:VCALENDAR
VERSION:2.0
PRODID:-//Intand Corporation//Tandem//EN
METHOD:PUBLISH
BEGIN:VEVENT
DTSTAMP:20260424T014953Z
DTSTART:20190909T233000Z
DTEND:20190910T003000Z
TRANSP:TRANSPARENT
PRIORITY:0
SUMMARY:LNHS Debate Parent Meeting
LOCATION:LNHS Performing Arts Theater (GH HVAC)
DESCRIPTION:Groups:\nLNHS Speech / Debate\n\nSchools:\nLiberty North High 
 School\n\nLocation:\nLNHS Performing Arts Theater (GH HVAC)\n\n
URL;VALUE=URI:http://liberty53.tandem.co/index.php?type=view&action=event&
 id=361045
CREATED:20190903T171439Z
LAST-MODIFIED:20190904T115749Z
UID:event_request-361045-liberty53@intand.com
END:VEVENT
END:VCALENDAR
