BEGIN:VCALENDAR
VERSION:2.0
PRODID:-//Intand Corporation//Tandem//EN
METHOD:PUBLISH
BEGIN:VEVENT
DTSTAMP:20260424T061520Z
DTSTART:20191204T123000Z
DTEND:20191204T140000Z
TRANSP:TRANSPARENT
PRIORITY:0
SUMMARY:[Cancelled] WHE - Strings Holiday Concert - LNHS Auditorium - 7:00
  pm
LOCATION:LNHS Performing Arts Theater (GH HVAC)
DESCRIPTION:WHE - Strings Holiday Concert from 7:00 - 7:30\n\nGroups:\nWHE
  Parent\nWHE Staff\n\nSchools:\nWarren Hills Elementary\nLiberty North Hig
 h School\n\nLocation:\nLNHS Performing Arts Theater (GH HVAC)\n\n
URL;VALUE=URI:http://liberty53.tandem.co/index.php?type=view&action=event&
 id=361026
CREATED:20190830T213245Z
LAST-MODIFIED:20190903T161457Z
UID:event_request-361026-liberty53@intand.com
END:VEVENT
END:VCALENDAR
