BEGIN:VCALENDAR
VERSION:2.0
PRODID:-//Intand Corporation//Tandem//EN
METHOD:PUBLISH
BEGIN:VEVENT
DTSTAMP:20260424T073719Z
DTSTART:20191011T230000Z
DTEND:20191012T010000Z
TRANSP:TRANSPARENT
PRIORITY:0
SUMMARY:[Cancelled] WH - Keith Hayes Hoops Practice 
LOCATION:WHE Gym
DESCRIPTION:Groups:\nKeith Hayes Hoops\n\nSchools:\nWarren Hills Elementar
 y\n\nLocation:\nWHE Gym\n\n
URL;VALUE=URI:http://liberty53.tandem.co/index.php?type=view&action=event&
 id=360878
CREATED:20190829T181741Z
LAST-MODIFIED:20190829T181758Z
UID:event-360878-liberty53@intand.com
END:VEVENT
END:VCALENDAR
