BEGIN:VCALENDAR
VERSION:2.0
PRODID:-//Intand Corporation//Tandem//EN
METHOD:PUBLISH
BEGIN:VEVENT
DTSTAMP:20260424T075939Z
DTSTART:20190830T140000Z
DTEND:20190830T143500Z
TRANSP:TRANSPARENT
PRIORITY:0
SUMMARY:LHS - Sr Advisory Meeting\, Make-up
LOCATION:LHS Cafeteria
DESCRIPTION:Groups:\nLHS Counselors\n\nSchools:\nLiberty High School\n\nLo
 cation:\nLHS Cafeteria\n\n
URL;VALUE=URI:http://liberty53.tandem.co/index.php?type=view&action=event&
 id=360848
CREATED:20190829T163747Z
LAST-MODIFIED:20190829T170317Z
UID:event_request-360848-liberty53@intand.com
END:VEVENT
END:VCALENDAR
