BEGIN:VCALENDAR
VERSION:2.0
PRODID:-//Intand Corporation//Tandem//EN
METHOD:PUBLISH
BEGIN:VEVENT
DTSTAMP:20260424T040816Z
DTSTART:20191205T170000Z
DTEND:20191205T190000Z
TRANSP:TRANSPARENT
PRIORITY:0
SUMMARY:LNHS Counseling Dept. Meeting
LOCATION:LNHS Room 707
DESCRIPTION:Groups:\nLNHS Counselors\n\nSchools:\nLiberty North High Schoo
 l\n\nLocation:\nLNHS Room 707\n\n
URL;VALUE=URI:http://liberty53.tandem.co/index.php?type=view&action=event&
 id=360800
CREATED:20190828T210628Z
LAST-MODIFIED:20190909T191205Z
UID:event_request-360800-liberty53@intand.com
END:VEVENT
END:VCALENDAR
