BEGIN:VCALENDAR
VERSION:2.0
PRODID:-//Intand Corporation//Tandem//EN
METHOD:PUBLISH
BEGIN:VEVENT
DTSTAMP:20260424T043533Z
DTSTART:20191023T213000Z
DTEND:20191024T010000Z
TRANSP:TRANSPARENT
PRIORITY:0
SUMMARY:WHE - PTA Book Fair - Room 11 - 4:30 - 8:00 pm
LOCATION:WHE 200 Commons
DESCRIPTION:WHE - PTA Book Fair - Room 11 from 4:30 - 8:00 pm\n\nGroups:\n
 WHE Parent\nWHE Staff\n\nSchools:\nWarren Hills Elementary\n\nLocation:\nW
 HE 200 Commons\n\n
URL;VALUE=URI:http://liberty53.tandem.co/index.php?type=view&action=event&
 id=360780
CREATED:20190828T195622Z
LAST-MODIFIED:20190828T195622Z
UID:event-360780-liberty53@intand.com
END:VEVENT
END:VCALENDAR
