BEGIN:VCALENDAR
VERSION:2.0
PRODID:-//Intand Corporation//Tandem//EN
METHOD:PUBLISH
BEGIN:VEVENT
DTSTAMP:20260424T053333Z
DTSTART:20200122T223000Z
DTEND:20200122T233000Z
TRANSP:TRANSPARENT
PRIORITY:0
SUMMARY:KB - Girl Scout Troop 2132 (Vedder)
LOCATION:KE Library
DESCRIPTION:Groups:\nGirls Scouts of NE Kansas and NW Missouri\n\nSchools:
 \nKellybrook Elementary\n\nLocation:\nKE Library\n\n
URL;VALUE=URI:http://liberty53.tandem.co/index.php?type=view&action=event&
 id=360749
CREATED:20190827T190447Z
LAST-MODIFIED:20190827T190447Z
UID:event-360749-liberty53@intand.com
END:VEVENT
END:VCALENDAR
