BEGIN:VCALENDAR
VERSION:2.0
PRODID:-//Intand Corporation//Tandem//EN
METHOD:PUBLISH
BEGIN:VEVENT
DTSTAMP:20260424T040902Z
DTSTART:20191106T143000Z
DTEND:20191106T171500Z
TRANSP:TRANSPARENT
PRIORITY:0
SUMMARY:LHS - KC Scholar Meeting
LOCATION:LHS Administrative Conference Room
DESCRIPTION:Groups:\nLHS Counselors\n\nSchools:\nLiberty High School\n\nLo
 cation:\nLHS Administrative Conference Room\n\n
URL;VALUE=URI:http://liberty53.tandem.co/index.php?type=view&action=event&
 id=360622
CREATED:20190826T164727Z
LAST-MODIFIED:20190912T131338Z
UID:event_request-360622-liberty53@intand.com
END:VEVENT
END:VCALENDAR
