BEGIN:VCALENDAR
VERSION:2.0
PRODID:-//Intand Corporation//Tandem//EN
METHOD:PUBLISH
BEGIN:VEVENT
DTSTAMP:20260424T050237Z
DTSTART:20190825T223000Z
DTEND:20190826T003000Z
TRANSP:TRANSPARENT
PRIORITY:0
SUMMARY:Softball Team Dinner
LOCATION:LNHS Cafeteria (GH HVAC)
DESCRIPTION:Team Dinner\n\nGroups:\nLNHS Softball - C\nLNHS Softball - JV\
 nLNHS Softball - Varsity\n\nSchools:\nLiberty North High School\n\nLocatio
 n:\nLNHS Cafeteria (GH HVAC)\n\n
URL;VALUE=URI:http://liberty53.tandem.co/index.php?type=view&action=event&
 id=360532
CREATED:20190823T141744Z
LAST-MODIFIED:20190828T171354Z
UID:event_request-360532-liberty53@intand.com
END:VEVENT
END:VCALENDAR
