BEGIN:VCALENDAR
VERSION:2.0
PRODID:-//Intand Corporation//Tandem//EN
METHOD:PUBLISH
BEGIN:VEVENT
DTSTAMP:20260424T061836Z
DTSTART:20191107T010000Z
DTEND:20191107T020000Z
TRANSP:TRANSPARENT
PRIORITY:0
SUMMARY:LN/LHS Orchestra Hawaii Trip Final Meeting 
LOCATION:LNHS LMC - 200
DESCRIPTION:Groups:\nLHS Orchestra\nLNHS Orchestra\n\nSchools:\nLiberty Hi
 gh School\nLiberty North High School\n\nLocation:\nLNHS LMC - 200\n\n
URL;VALUE=URI:http://liberty53.tandem.co/index.php?type=view&action=event&
 id=360518
CREATED:20190822T223027Z
LAST-MODIFIED:20190822T225529Z
UID:event_request-360518-liberty53@intand.com
END:VEVENT
END:VCALENDAR
