BEGIN:VCALENDAR
VERSION:2.0
PRODID:-//Intand Corporation//Tandem//EN
METHOD:PUBLISH
BEGIN:VEVENT
DTSTAMP:20260424T023733Z
DTSTART;VALUE=DATE:20191010
DTEND;VALUE=DATE:20191011
TRANSP:TRANSPARENT
PRIORITY:0
SUMMARY:SVMS - Student Immunization Clinic
LOCATION:SVMS Conference Suite I
DESCRIPTION:Groups:\nSVMS Staff\n\nSchools:\nSouth Valley Middle School\n\
 nLocation:\nSVMS Conference Suite I\n\n
URL;VALUE=URI:http://liberty53.tandem.co/index.php?type=view&action=event&
 id=360442
CREATED:20190821T183019Z
LAST-MODIFIED:20190822T155735Z
UID:event_request-360442-liberty53@intand.com
END:VEVENT
END:VCALENDAR
