BEGIN:VCALENDAR
VERSION:2.0
PRODID:-//Intand Corporation//Tandem//EN
METHOD:PUBLISH
BEGIN:VEVENT
DTSTAMP:20260424T043210Z
DTSTART:20191103T220000Z
DTEND:20191104T000000Z
TRANSP:TRANSPARENT
PRIORITY:0
SUMMARY:[Cancelled] LHS - Men's Basketball Practice
LOCATION:LHS Fieldhouse Gym
DESCRIPTION:Groups:\nLHS Boys Basketball\n\nSchools:\nLiberty High School\
 n\nLocation:\nLHS Fieldhouse Gym\n\n
URL;VALUE=URI:http://liberty53.tandem.co/index.php?type=view&action=event&
 id=360383
CREATED:20190821T163433Z
LAST-MODIFIED:20190917T192753Z
UID:event-360383-liberty53@intand.com
END:VEVENT
END:VCALENDAR
