BEGIN:VCALENDAR
VERSION:2.0
PRODID:-//Intand Corporation//Tandem//EN
METHOD:PUBLISH
BEGIN:VEVENT
DTSTAMP:20260424T053443Z
DTSTART:20190826T180000Z
DTEND:20190826T190000Z
TRANSP:TRANSPARENT
PRIORITY:0
SUMMARY:LHS - Aux Gym / Wrestling Room Project Discussion
LOCATION:LHS Administrative Conference Room
DESCRIPTION:Groups:\nLHS Administrative Team\n\nSchools:\nLiberty High Sch
 ool\n\nLocation:\nLHS Administrative Conference Room\n\n
URL;VALUE=URI:http://liberty53.tandem.co/index.php?type=view&action=event&
 id=360304
CREATED:20190821T122315Z
LAST-MODIFIED:20190821T122315Z
UID:event-360304-liberty53@intand.com
END:VEVENT
END:VCALENDAR
