BEGIN:VCALENDAR
VERSION:2.0
PRODID:-//Intand Corporation//Tandem//EN
METHOD:PUBLISH
BEGIN:VEVENT
DTSTAMP:20260424T074013Z
DTSTART:20191218T003000Z
DTEND:20191218T020000Z
TRANSP:TRANSPARENT
PRIORITY:0
SUMMARY:[Cancelled] SC - Girl Scout Troop 1190 (Hoffman)
LOCATION:SCE Great Hall
DESCRIPTION:Groups:\nGirl Scout Troop 1190\n\nSchools:\nShoal Creek Elemen
 tary\n\nLocation:\nSCE Great Hall\n\n
URL;VALUE=URI:http://liberty53.tandem.co/index.php?type=view&action=event&
 id=360279
CREATED:20190820T172325Z
LAST-MODIFIED:20191217T133405Z
UID:event-360279-liberty53@intand.com
END:VEVENT
END:VCALENDAR
